BEGIN:VCALENDAR
VERSION:2.0
PRODID:-//Lessing-Gymnasium - ECPv6.15.17.1//NONSGML v1.0//EN
CALSCALE:GREGORIAN
METHOD:PUBLISH
X-WR-CALNAME:Lessing-Gymnasium
X-ORIGINAL-URL:https://lessing-frankfurt.de
X-WR-CALDESC:Veranstaltungen für Lessing-Gymnasium
REFRESH-INTERVAL;VALUE=DURATION:PT1H
X-Robots-Tag:noindex
X-PUBLISHED-TTL:PT1H
BEGIN:VTIMEZONE
TZID:Europe/Berlin
BEGIN:DAYLIGHT
TZOFFSETFROM:+0100
TZOFFSETTO:+0200
TZNAME:CEST
DTSTART:20190331T010000
END:DAYLIGHT
BEGIN:STANDARD
TZOFFSETFROM:+0200
TZOFFSETTO:+0100
TZNAME:CET
DTSTART:20191027T010000
END:STANDARD
BEGIN:DAYLIGHT
TZOFFSETFROM:+0100
TZOFFSETTO:+0200
TZNAME:CEST
DTSTART:20200329T010000
END:DAYLIGHT
BEGIN:STANDARD
TZOFFSETFROM:+0200
TZOFFSETTO:+0100
TZNAME:CET
DTSTART:20201025T010000
END:STANDARD
BEGIN:DAYLIGHT
TZOFFSETFROM:+0100
TZOFFSETTO:+0200
TZNAME:CEST
DTSTART:20210328T010000
END:DAYLIGHT
BEGIN:STANDARD
TZOFFSETFROM:+0200
TZOFFSETTO:+0100
TZNAME:CET
DTSTART:20211031T010000
END:STANDARD
END:VTIMEZONE
BEGIN:VEVENT
DTSTART;VALUE=DATE:20200601
DTEND;VALUE=DATE:20200603
DTSTAMP:20260425T190312
CREATED:20181130T170903Z
LAST-MODIFIED:20190730T122410Z
UID:5091-1590976800-1591063199@lessing-frankfurt.de
SUMMARY:Feiertag
DESCRIPTION:Pfingst­mon­tag
URL:https://lessing-frankfurt.de/kalender/feiertag-4/
END:VEVENT
BEGIN:VEVENT
DTSTART;TZID=Europe/Berlin:20200605T114500
DTEND;TZID=Europe/Berlin:20200605T133000
DTSTAMP:20260425T190312
CREATED:20181130T171118Z
LAST-MODIFIED:20190730T122640Z
UID:5095-1591357500-1591363800@lessing-frankfurt.de
SUMMARY:Abiturfeier
DESCRIPTION:vor­aus­sicht­lich ab 11:45 Uhr in der Aula des Lessing-Gymnasiums.
URL:https://lessing-frankfurt.de/kalender/abiturfeier/
END:VEVENT
BEGIN:VEVENT
DTSTART;VALUE=DATE:20200606
DTEND;VALUE=DATE:20200608
DTSTAMP:20260425T190312
CREATED:20190730T114503Z
LAST-MODIFIED:20200416T063636Z
UID:6712-1591408800-1591495199@lessing-frankfurt.de
SUMMARY:Abiturball - abgesagt
DESCRIPTION:Auf­grund der aktu­el­len Situa­tion im Zusam­men­hang mit dem Corona-Virus muss die Ver­an­stal­tung abge­sagt werden.
URL:https://lessing-frankfurt.de/kalender/abiturball/
END:VEVENT
BEGIN:VEVENT
DTSTART;VALUE=DATE:20200611
DTEND;VALUE=DATE:20200613
DTSTAMP:20260425T190312
CREATED:20181130T171209Z
LAST-MODIFIED:20190730T113738Z
UID:5097-1591840800-1591927199@lessing-frankfurt.de
SUMMARY:Feiertag
DESCRIPTION:Fron­leich­nam
URL:https://lessing-frankfurt.de/kalender/feiertag-5/
END:VEVENT
BEGIN:VEVENT
DTSTART;VALUE=DATE:20200612
DTEND;VALUE=DATE:20200614
DTSTAMP:20260425T190312
CREATED:20181130T171242Z
LAST-MODIFIED:20190730T113822Z
UID:5099-1591927200-1592013599@lessing-frankfurt.de
SUMMARY:Beweglicher Ferientag​
DESCRIPTION:Schul­frei.
URL:https://lessing-frankfurt.de/kalender/beweglicher-ferientag%e2%80%8b/
END:VEVENT
BEGIN:VEVENT
DTSTART;TZID=Europe/Berlin:20200620T170000
DTEND;TZID=Europe/Berlin:20200620T230000
DTSTAMP:20260425T190312
CREATED:20200122T205714Z
LAST-MODIFIED:20200617T084642Z
UID:8841-1592672400-1592694000@lessing-frankfurt.de
SUMMARY:Festveranstaltung in der Alten Oper - auf den 19.06.2021 verschoben
DESCRIPTION:Der Höhe­punkt unse­rer Fei­er­lich­kei­ten zum Schuljubiläum: \nDas Les­sing-Gym­na­sium zeigt sich in sei­ner Viel­falt mit Chor\, Orches­ter\, Thea­ter\, Kunst\, Tanz und vie­len wei­te­ren ver­schie­de­nen Dar­bie­tun­gen im fest­li­chen Rah­men. Der Vor­ver­kauf für die Fest­ver­an­stal­tung star­tet am 23.01.2020. Kar­ten sind aus­schließ­lich über frankfurtticket.de erhält­lich.
URL:https://lessing-frankfurt.de/kalender/festveranstaltung-in-der-alten-oper/
END:VEVENT
BEGIN:VEVENT
DTSTART;VALUE=DATE:20200622
DTEND;VALUE=DATE:20200705
DTSTAMP:20260425T190312
CREATED:20181130T171423Z
LAST-MODIFIED:20200519T101015Z
UID:5101-1592791200-1593827999@lessing-frankfurt.de
SUMMARY:Praktikum der Q2​ vom 22.06. bis 03.07.2020 - abgesagt
DESCRIPTION:
URL:https://lessing-frankfurt.de/kalender/praktikum-der-q2%e2%80%8b-vom-17-06-28-06-2019/
END:VEVENT
BEGIN:VEVENT
DTSTART;TZID=Europe/Berlin:20200624T133000
DTEND;TZID=Europe/Berlin:20200624T170000
DTSTAMP:20260425T190312
CREATED:20181130T171605Z
LAST-MODIFIED:20190730T113629Z
UID:5105-1593005400-1593018000@lessing-frankfurt.de
SUMMARY:Zeugnis­konferenzen​
DESCRIPTION:Aus­hang beachten
URL:https://lessing-frankfurt.de/kalender/zeugniskonferenzen%e2%80%8b/
END:VEVENT
BEGIN:VEVENT
DTSTART;VALUE=DATE:20200626
DTEND;VALUE=DATE:20200703
DTSTAMP:20260425T190312
CREATED:20181130T170805Z
LAST-MODIFIED:20200416T063352Z
UID:5089-1593136800-1593655199@lessing-frankfurt.de
SUMMARY:Sprachfahrt nach Hastings - abgesagt
DESCRIPTION:Jahr­gang 7 \nAuf­grund der aktu­el­len Situa­tion im Zusam­men­hang mit dem Corona-Virus muss die Fahrt abge­sagt werden.
URL:https://lessing-frankfurt.de/kalender/sprachfahrt-nach-hastings/
END:VEVENT
BEGIN:VEVENT
DTSTART;VALUE=DATE:20200629
DTEND;VALUE=DATE:20200704
DTSTAMP:20260425T190312
CREATED:20181130T171836Z
LAST-MODIFIED:20200416T063444Z
UID:5109-1593396000-1593741599@lessing-frankfurt.de
SUMMARY:Studienfahrt Berlin - abgesagt
DESCRIPTION:E‑Phase \nAuf­grund der aktu­el­len Situa­tion im Zusam­men­hang mit dem Corona-Virus muss die Fahrt abge­sagt werden.
URL:https://lessing-frankfurt.de/kalender/studienfahrt-berlin-e-phase/
END:VEVENT
BEGIN:VEVENT
DTSTART;TZID=Europe/Berlin:20200630T080000
DTEND;TZID=Europe/Berlin:20200630T170000
DTSTAMP:20260425T190313
CREATED:20190905T144233Z
LAST-MODIFIED:20190905T153620Z
UID:7072-1593504000-1593536400@lessing-frankfurt.de
SUMMARY:SEB-Sitzung
DESCRIPTION:19:00 Uhr; Bibliothek
URL:https://lessing-frankfurt.de/kalender/seb-sitzung-4/
END:VEVENT
END:VCALENDAR