BEGIN:VCALENDAR
VERSION:2.0
PRODID:-//Lessing-Gymnasium - ECPv6.15.17.1//NONSGML v1.0//EN
CALSCALE:GREGORIAN
METHOD:PUBLISH
X-WR-CALNAME:Lessing-Gymnasium
X-ORIGINAL-URL:https://lessing-frankfurt.de
X-WR-CALDESC:Veranstaltungen für Lessing-Gymnasium
REFRESH-INTERVAL;VALUE=DURATION:PT1H
X-Robots-Tag:noindex
X-PUBLISHED-TTL:PT1H
BEGIN:VTIMEZONE
TZID:Europe/Berlin
BEGIN:DAYLIGHT
TZOFFSETFROM:+0100
TZOFFSETTO:+0200
TZNAME:CEST
DTSTART:20190331T010000
END:DAYLIGHT
BEGIN:STANDARD
TZOFFSETFROM:+0200
TZOFFSETTO:+0100
TZNAME:CET
DTSTART:20191027T010000
END:STANDARD
BEGIN:DAYLIGHT
TZOFFSETFROM:+0100
TZOFFSETTO:+0200
TZNAME:CEST
DTSTART:20200329T010000
END:DAYLIGHT
BEGIN:STANDARD
TZOFFSETFROM:+0200
TZOFFSETTO:+0100
TZNAME:CET
DTSTART:20201025T010000
END:STANDARD
BEGIN:DAYLIGHT
TZOFFSETFROM:+0100
TZOFFSETTO:+0200
TZNAME:CEST
DTSTART:20210328T010000
END:DAYLIGHT
BEGIN:STANDARD
TZOFFSETFROM:+0200
TZOFFSETTO:+0100
TZNAME:CET
DTSTART:20211031T010000
END:STANDARD
END:VTIMEZONE
BEGIN:VEVENT
DTSTART;VALUE=DATE:20200501
DTEND;VALUE=DATE:20200503
DTSTAMP:20260425T154334
CREATED:20181130T165338Z
LAST-MODIFIED:20190731T081608Z
UID:5059-1588298400-1588384799@lessing-frankfurt.de
SUMMARY:Feiertag
DESCRIPTION:Mai — Feiertag
URL:https://lessing-frankfurt.de/kalender/feiertag-2/
END:VEVENT
BEGIN:VEVENT
DTSTART;TZID=Europe/Berlin:20200508T190000
DTEND;TZID=Europe/Berlin:20200508T213000
DTSTAMP:20260425T154334
CREATED:20181130T165723Z
LAST-MODIFIED:20200416T064051Z
UID:5066-1588964400-1588973400@lessing-frankfurt.de
SUMMARY:65. Symphonisches Schulkonzert - abgesagt
DESCRIPTION:65. Sym­pho­ni­sches Schul­kon­zert — 1. Kon­zert — 19:00 Uhr\, Aula \nAuf­grund der aktu­el­len Situa­tion im Zusam­men­hang mit dem Corona-Virus muss die Ver­an­stal­tung abge­sagt werden.
URL:https://lessing-frankfurt.de/kalender/64-symphonisches-schulkonzert/
END:VEVENT
BEGIN:VEVENT
DTSTART;TZID=Europe/Berlin:20200509T190000
DTEND;TZID=Europe/Berlin:20200509T213000
DTSTAMP:20260425T154334
CREATED:20181130T165840Z
LAST-MODIFIED:20200416T064156Z
UID:5069-1589050800-1589059800@lessing-frankfurt.de
SUMMARY:65. Symphonisches Schulkonzert - abgesagt
DESCRIPTION:65. Sym­pho­ni­sches Schul­kon­zert — 2. Kon­zert — 19:00 Uhr\, Aula \nAuf­grund der aktu­el­len Situa­tion im Zusam­men­hang mit dem Corona-Virus muss die Ver­an­stal­tung abge­sagt werden.
URL:https://lessing-frankfurt.de/kalender/64-symphonisches-schulkonzert-2/
END:VEVENT
BEGIN:VEVENT
DTSTART;VALUE=DATE:20200511
DTEND;VALUE=DATE:20200514
DTSTAMP:20260425T154334
CREATED:20181130T170206Z
LAST-MODIFIED:20190730T123516Z
UID:5074-1589162400-1589335199@lessing-frankfurt.de
SUMMARY:Abitur – praktische Prüfungen Sport​
DESCRIPTION:
URL:https://lessing-frankfurt.de/kalender/abitur-praktische-pruefungen-sport%e2%80%8b/
END:VEVENT
BEGIN:VEVENT
DTSTART;TZID=Europe/Berlin:20200512T133000
DTEND;TZID=Europe/Berlin:20200512T170000
DTSTAMP:20260425T154334
CREATED:20181130T170346Z
LAST-MODIFIED:20190730T123334Z
UID:5078-1589290200-1589302800@lessing-frankfurt.de
SUMMARY:Gesamtkonferenz​
DESCRIPTION:Aus­hang beachten.
URL:https://lessing-frankfurt.de/kalender/gesamtkonferenz%e2%80%8b/
END:VEVENT
BEGIN:VEVENT
DTSTART;VALUE=DATE:20200515
DTEND;VALUE=DATE:20200517
DTSTAMP:20260425T154334
CREATED:20181130T170259Z
LAST-MODIFIED:20190730T123425Z
UID:5076-1589508000-1589594399@lessing-frankfurt.de
SUMMARY:Ende Q4 und Ausgabe der Zeugnisse Q4​
DESCRIPTION:
URL:https://lessing-frankfurt.de/kalender/ende-q4-und-ausgabe-der-zeugnisse-q4%e2%80%8b/
END:VEVENT
BEGIN:VEVENT
DTSTART;VALUE=DATE:20200515
DTEND;VALUE=DATE:20200519
DTSTAMP:20260425T154334
CREATED:20190731T130151Z
LAST-MODIFIED:20200416T063811Z
UID:6799-1589508000-1589767199@lessing-frankfurt.de
SUMMARY:Lessing-Kolleg - abgesagt
DESCRIPTION:Auf­grund der aktu­el­len Situa­tion im Zusam­men­hang mit dem Corona-Virus muss die Ver­an­stal­tung abge­sagt werden.
URL:https://lessing-frankfurt.de/kalender/lessing-kolleg-7/
END:VEVENT
BEGIN:VEVENT
DTSTART;VALUE=DATE:20200521
DTEND;VALUE=DATE:20200523
DTSTAMP:20260425T154334
CREATED:20181130T170450Z
LAST-MODIFIED:20190730T122905Z
UID:5080-1590026400-1590112799@lessing-frankfurt.de
SUMMARY:Feiertag
DESCRIPTION:Christi Himmelfahrt​
URL:https://lessing-frankfurt.de/kalender/feiertag-3/
END:VEVENT
BEGIN:VEVENT
DTSTART;VALUE=DATE:20200522
DTEND;VALUE=DATE:20200524
DTSTAMP:20260425T154334
CREATED:20181130T170529Z
LAST-MODIFIED:20190730T122834Z
UID:5082-1590112800-1590199199@lessing-frankfurt.de
SUMMARY:beweglicher Ferientag
DESCRIPTION:Schul­frei.
URL:https://lessing-frankfurt.de/kalender/beweglicher-ferientag-3/
END:VEVENT
BEGIN:VEVENT
DTSTART;VALUE=DATE:20200525
DTEND;VALUE=DATE:20200531
DTSTAMP:20260425T154334
CREATED:20181130T170722Z
LAST-MODIFIED:20190730T122604Z
UID:5086-1590372000-1590803999@lessing-frankfurt.de
SUMMARY:Mündl. Abitur
DESCRIPTION:Prä­sen­ta­ti­ons­prü­fun­gen und Münd­li­che Prü­fun­gen — Aus­hänge beachten.
URL:https://lessing-frankfurt.de/kalender/muendl-abitur-2/
END:VEVENT
BEGIN:VEVENT
DTSTART;VALUE=DATE:20200526
DTEND;VALUE=DATE:20200528
DTSTAMP:20260425T154334
CREATED:20190506T195643Z
LAST-MODIFIED:20190731T080943Z
UID:6499-1590458400-1590544799@lessing-frankfurt.de
SUMMARY:Unterrichtsfrei aufgrund des mündlichen Abiturs
DESCRIPTION:Für alle Schü­le­rin­nen und Schü­ler ent­fällt der Unter­richt auf­grund des münd­li­chen Abiturs.
URL:https://lessing-frankfurt.de/kalender/unterrichtsfrei-aufgrund-des-muendlichen-abiturs/
CATEGORIES:Abitur
END:VEVENT
BEGIN:VEVENT
DTSTART;VALUE=DATE:20200527
DTEND;VALUE=DATE:20200529
DTSTAMP:20260425T154334
CREATED:20200205T163656Z
LAST-MODIFIED:20200416T063717Z
UID:8964-1590544800-1590631199@lessing-frankfurt.de
SUMMARY:Q2: Besuch der Berufsmesse Vocatium in Offenbach - abgesagt
DESCRIPTION:ganz­tä­gig Q2 \nAuf­grund der aktu­el­len Situa­tion im Zusam­men­hang mit dem Corona-Virus muss die Ver­an­stal­tung abge­sagt werden.
URL:https://lessing-frankfurt.de/kalender/q2-besuch-der-berufsmesse-vocatium-in-offenbach/
END:VEVENT
END:VCALENDAR