BEGIN:VCALENDAR
VERSION:2.0
PRODID:-//Lessing-Gymnasium - ECPv6.15.17.1//NONSGML v1.0//EN
CALSCALE:GREGORIAN
METHOD:PUBLISH
X-ORIGINAL-URL:https://lessing-frankfurt.de
X-WR-CALDESC:Veranstaltungen für Lessing-Gymnasium
REFRESH-INTERVAL;VALUE=DURATION:PT1H
X-Robots-Tag:noindex
X-PUBLISHED-TTL:PT1H
BEGIN:VTIMEZONE
TZID:Europe/Berlin
BEGIN:DAYLIGHT
TZOFFSETFROM:+0100
TZOFFSETTO:+0200
TZNAME:CEST
DTSTART:20190331T010000
END:DAYLIGHT
BEGIN:STANDARD
TZOFFSETFROM:+0200
TZOFFSETTO:+0100
TZNAME:CET
DTSTART:20191027T010000
END:STANDARD
BEGIN:DAYLIGHT
TZOFFSETFROM:+0100
TZOFFSETTO:+0200
TZNAME:CEST
DTSTART:20200329T010000
END:DAYLIGHT
BEGIN:STANDARD
TZOFFSETFROM:+0200
TZOFFSETTO:+0100
TZNAME:CET
DTSTART:20201025T010000
END:STANDARD
BEGIN:DAYLIGHT
TZOFFSETFROM:+0100
TZOFFSETTO:+0200
TZNAME:CEST
DTSTART:20210328T010000
END:DAYLIGHT
BEGIN:STANDARD
TZOFFSETFROM:+0200
TZOFFSETTO:+0100
TZNAME:CET
DTSTART:20211031T010000
END:STANDARD
END:VTIMEZONE
BEGIN:VEVENT
DTSTART;VALUE=DATE:20200401
DTEND;VALUE=DATE:20200403
DTSTAMP:20260425T154454
CREATED:20181130T121445Z
LAST-MODIFIED:20190731T082711Z
UID:5000-1585706400-1585792799@lessing-frankfurt.de
SUMMARY:schriftl. Abitur
DESCRIPTION:– GK Geschichte\, PoWi\, Erd­kunde\, Reli­gion\, Ethik\, Philosophie
URL:https://lessing-frankfurt.de/kalender/abitur-gk-ge-powi-ek-rel-eth-phil/
END:VEVENT
BEGIN:VEVENT
DTSTART;VALUE=DATE:20200402
DTEND;VALUE=DATE:20200404
DTSTAMP:20260425T154454
CREATED:20181130T121523Z
LAST-MODIFIED:20190731T082622Z
UID:5002-1585792800-1585879199@lessing-frankfurt.de
SUMMARY:schriftl. Abitur
DESCRIPTION:- LK u. Gk Biologie
URL:https://lessing-frankfurt.de/kalender/abitur-lk-u-gk-bio/
END:VEVENT
BEGIN:VEVENT
DTSTART;VALUE=DATE:20200402
DTEND;VALUE=DATE:20200404
DTSTAMP:20260425T154454
CREATED:20181130T164018Z
LAST-MODIFIED:20190731T083008Z
UID:5036-1585792800-1585879199@lessing-frankfurt.de
SUMMARY:Ausgabe Aufgabenstellung Präsentations­prüfungen​
DESCRIPTION:
URL:https://lessing-frankfurt.de/kalender/ausgabe-themen-praesentationspruefungen%e2%80%8b/
END:VEVENT
BEGIN:VEVENT
DTSTART;TZID=Europe/Berlin:20200402T134500
DTEND;TZID=Europe/Berlin:20200402T143000
DTSTAMP:20260425T154454
CREATED:20200205T163606Z
LAST-MODIFIED:20200205T163606Z
UID:8962-1585835100-1585837800@lessing-frankfurt.de
SUMMARY:Vorbereitungsveranstaltung für die Berufsmesse Vocatium
DESCRIPTION:13.45 — 14.30 Uhr in der Aula für Q2
URL:https://lessing-frankfurt.de/kalender/vorbereitungsveranstaltung-fuer-die-berufsmesse-vocatium/
END:VEVENT
BEGIN:VEVENT
DTSTART;TZID=Europe/Berlin:20200402T190000
DTEND;TZID=Europe/Berlin:20200402T210000
DTSTAMP:20260425T154454
CREATED:20190905T144159Z
LAST-MODIFIED:20190905T144159Z
UID:7070-1585854000-1585861200@lessing-frankfurt.de
SUMMARY:SEB-Sitzung
DESCRIPTION:19:00 Uhr; Bibliothek
URL:https://lessing-frankfurt.de/kalender/seb-sitzung-3/
END:VEVENT
BEGIN:VEVENT
DTSTART;VALUE=DATE:20200406
DTEND;VALUE=DATE:20200419
DTSTAMP:20260425T154454
CREATED:20181130T165041Z
LAST-MODIFIED:20190731T082016Z
UID:5054-1586138400-1587175199@lessing-frankfurt.de
SUMMARY:Osterferien
DESCRIPTION:06.04. bis 17.04.2020 Osterferien
URL:https://lessing-frankfurt.de/kalender/osterferien/
END:VEVENT
BEGIN:VEVENT
DTSTART;VALUE=DATE:20200421
DTEND;VALUE=DATE:20200423
DTSTAMP:20260425T154454
CREATED:20190731T130000Z
LAST-MODIFIED:20190731T130000Z
UID:6795-1587434400-1587520799@lessing-frankfurt.de
SUMMARY:Lessing-Kolleg
DESCRIPTION:
URL:https://lessing-frankfurt.de/kalender/lessing-kolleg-6/
END:VEVENT
BEGIN:VEVENT
DTSTART;VALUE=DATE:20200422
DTEND;VALUE=DATE:20200424
DTSTAMP:20260425T154454
CREATED:20190731T130051Z
LAST-MODIFIED:20190731T130051Z
UID:6797-1587520800-1587607199@lessing-frankfurt.de
SUMMARY:KCGO Fortbildung im Fach Geschichte
DESCRIPTION:
URL:https://lessing-frankfurt.de/kalender/kcgo-fortbildung-im-fach-geschichte/
END:VEVENT
BEGIN:VEVENT
DTSTART;TZID=Europe/Berlin:20200423T193000
DTEND;TZID=Europe/Berlin:20200423T210000
DTSTAMP:20260425T154454
CREATED:20200225T082340Z
LAST-MODIFIED:20200225T082340Z
UID:9179-1587670200-1587675600@lessing-frankfurt.de
SUMMARY:SEB-Sitzung
DESCRIPTION:in der Bibliothek
URL:https://lessing-frankfurt.de/kalender/seb-sitzung-5/
END:VEVENT
BEGIN:VEVENT
DTSTART;VALUE=DATE:20200427
DTEND;VALUE=DATE:20200502
DTSTAMP:20260425T154454
CREATED:20181130T165255Z
LAST-MODIFIED:20200416T064247Z
UID:5057-1587952800-1588298399@lessing-frankfurt.de
SUMMARY:Probentage Weikersheim​ - abgesagt
DESCRIPTION:Auf­grund der aktu­el­len Situa­tion im Zusam­men­hang mit dem Corona-Virus muss die Ver­an­stal­tung abge­sagt werden.
URL:https://lessing-frankfurt.de/kalender/probentage-weikersheim%e2%80%8b/
END:VEVENT
BEGIN:VEVENT
DTSTART;TZID=Europe/Berlin:20200429T190000
DTEND;TZID=Europe/Berlin:20200429T210000
DTSTAMP:20260425T154454
CREATED:20200317T130222Z
LAST-MODIFIED:20200317T133403Z
UID:9276-1588186800-1588194000@lessing-frankfurt.de
SUMMARY:Präsentation der Festschrift
DESCRIPTION:Am 29.04.2020 (neuer Ter­min) erscheint unsere Fest­schrift mit dem Titel „Nach­for­schung der Wahr­heit. Von der alten Latein­schule zum Les­sing-Gym­na­sium in Frank­furt am Main. Fest­schrift zum 500-jäh­ri­gen Jubi­läum der Schule“ im Societätsverlag. \nOrt: 19:00 Uhr Aula des Lessing-Gymnasiums
URL:https://lessing-frankfurt.de/kalender/praesentation-der-festschrift/
END:VEVENT
END:VCALENDAR