BEGIN:VCALENDAR
VERSION:2.0
PRODID:-//Lessing-Gymnasium - ECPv6.15.17.1//NONSGML v1.0//EN
CALSCALE:GREGORIAN
METHOD:PUBLISH
X-WR-CALNAME:Lessing-Gymnasium
X-ORIGINAL-URL:https://lessing-frankfurt.de
X-WR-CALDESC:Veranstaltungen für Lessing-Gymnasium
REFRESH-INTERVAL;VALUE=DURATION:PT1H
X-Robots-Tag:noindex
X-PUBLISHED-TTL:PT1H
BEGIN:VTIMEZONE
TZID:Europe/Berlin
BEGIN:DAYLIGHT
TZOFFSETFROM:+0100
TZOFFSETTO:+0200
TZNAME:CEST
DTSTART:20190331T010000
END:DAYLIGHT
BEGIN:STANDARD
TZOFFSETFROM:+0200
TZOFFSETTO:+0100
TZNAME:CET
DTSTART:20191027T010000
END:STANDARD
BEGIN:DAYLIGHT
TZOFFSETFROM:+0100
TZOFFSETTO:+0200
TZNAME:CEST
DTSTART:20200329T010000
END:DAYLIGHT
BEGIN:STANDARD
TZOFFSETFROM:+0200
TZOFFSETTO:+0100
TZNAME:CET
DTSTART:20201025T010000
END:STANDARD
BEGIN:DAYLIGHT
TZOFFSETFROM:+0100
TZOFFSETTO:+0200
TZNAME:CEST
DTSTART:20210328T010000
END:DAYLIGHT
BEGIN:STANDARD
TZOFFSETFROM:+0200
TZOFFSETTO:+0100
TZNAME:CET
DTSTART:20211031T010000
END:STANDARD
END:VTIMEZONE
BEGIN:VEVENT
DTSTART;TZID=Europe/Berlin:20200302T133000
DTEND;TZID=Europe/Berlin:20200302T170000
DTSTAMP:20260425T154334
CREATED:20181130T164252Z
LAST-MODIFIED:20190731T082513Z
UID:5041-1583155800-1583168400@lessing-frankfurt.de
SUMMARY:Gesamtkonferenz
DESCRIPTION:Aus­hang beachten.
URL:https://lessing-frankfurt.de/kalender/konferenztag-2/
END:VEVENT
BEGIN:VEVENT
DTSTART;VALUE=DATE:20200304
DTEND;VALUE=DATE:20200306
DTSTAMP:20260425T154334
CREATED:20181130T120652Z
LAST-MODIFIED:20190731T085448Z
UID:4992-1583287200-1583373599@lessing-frankfurt.de
SUMMARY:Mathematik­wettbewerb
DESCRIPTION:Hes­si­scher Mathe­ma­tik­wett­be­werb 2. Runde am Gym­na­sium Riedberg.
URL:https://lessing-frankfurt.de/kalender/mathematikwettbewerb-der-8-kl/
END:VEVENT
BEGIN:VEVENT
DTSTART;TZID=Europe/Berlin:20200304T193000
DTEND;TZID=Europe/Berlin:20200304T210000
DTSTAMP:20260425T154334
CREATED:20181130T162534Z
LAST-MODIFIED:20200225T080037Z
UID:5020-1583350200-1583355600@lessing-frankfurt.de
SUMMARY:Informations­elternabend E-Phase
DESCRIPTION:19.30 Uhr\, Aula: \nJahr­gangs­stufe E2: Eltern­in­for­ma­ti­ons­abend zur Oberstufe \n 
URL:https://lessing-frankfurt.de/kalender/informationselternabend/
END:VEVENT
BEGIN:VEVENT
DTSTART;VALUE=DATE:20200310
DTEND;VALUE=DATE:20200312
DTSTAMP:20260425T154334
CREATED:20200122T205339Z
LAST-MODIFIED:20200217T140002Z
UID:8837-1583805600-1583891999@lessing-frankfurt.de
SUMMARY:Vortrag von Prof. Dr. Vinzenz Brinkmann
DESCRIPTION:Anläss­lich des 500 jäh­ri­gen Jubi­lä­ums des Les­sing Gym­na­si­ums und der Aus­stel­lung Bunte Göt­ter. Gol­den Edi­tion in der Lie­bieg­haus Skulp­tu­ren­samm­lung spricht Prof. Dr. Vin­zenz Brink­mann in sei­nem Vor­trag von dem nach wie vor irri­tie­ren­den Phä­no­men der anti­ken Sta­tuen­po­ly­chro­mie. In rund 40 Jah­ren For­schungs­tä­tig­keit wur­den zahl­rei­che antike grie­chi­sche und römi­sche Skulp­tu­ren natur­wis­sen­schaft­lich und archäo­lo­gisch unter­sucht. Am Bei­spiel von aus­ge­wähl­ten far­big gefass­ten Rekon­struk­tio­nen stellt er nicht nur neu­este Ergeb­nisse vor\, son­dern macht auch das Bild einer farb­ge­wal­ti­gen Antike nachvollziehbar. \nOrt: Aula des Lessing-Gymnasiums \nHIN­WEIS: (nur in Ein­la­dung für die Les­sing-Schul­ge­meinde): Der vierte „Les­sing-Gym­na­sium trifft Lie­bieg­haus-Tag“ im Rah­men unser Koope­ra­tion wird am 21. März 2020 von 10.30 bis 13.30 Uhr statt­fin­den und Füh­run­gen und Work­shops in der aktu­el­len Aus­stel­lung bieten.
URL:https://lessing-frankfurt.de/kalender/vortrag-von-prof-dr-vinzenz-brinkmann/
ATTACH;FMTTYPE=image/jpeg:https://lessing-frankfurt.de/wp-content/uploads/2020/02/Bunte-Götter.jpg
END:VEVENT
BEGIN:VEVENT
DTSTART;TZID=Europe/Berlin:20200312T153000
DTEND;TZID=Europe/Berlin:20200312T170000
DTSTAMP:20260425T154334
CREATED:20200214T140729Z
LAST-MODIFIED:20200214T140729Z
UID:9146-1584027000-1584032400@lessing-frankfurt.de
SUMMARY:mündlicher Teil der Delf Prüfung
DESCRIPTION:Don­ners­tag\, den 12. März 2020\, von 15:30 bis 16:50 Uhr \nZie­hen­schule in Frank­furt\, Josephs­kirch­str. 9; 60433 Frank­furt am Main (Sta­tion Wei­ßer Stein) \nAus­weis und Stift mitbringen
URL:https://lessing-frankfurt.de/kalender/muendlicher-teil-der-delf-pruefung/
LOCATION:Josephskirchstr. 9; 60433 Frankfurt am Main
END:VEVENT
BEGIN:VEVENT
DTSTART;TZID=Europe/Berlin:20200314T100000
DTEND;TZID=Europe/Berlin:20200314T160000
DTSTAMP:20260425T154334
CREATED:20190204T201531Z
LAST-MODIFIED:20200313T065149Z
UID:5951-1584180000-1584201600@lessing-frankfurt.de
SUMMARY:JugendBildungsmesse - ABGESAGT
DESCRIPTION:Sehr geehrte Damen und Her­ren\, liebe Schü­le­rin­nen und Schüler\, \ndie Aus­brei­tung des Covid-19 Virus ist sehr dyna­misch\, wie die Ereig­nisse der letz­ten Tage demonstrieren \nNicht nur dem Hin­ter­grund\, dass unsere Abitu­ri­en­ten/-innen ab kom­men­den Don­ners­tag (19.03.) sich den schrift­li­chen Prü­fun­gen unter­zie­hen müs­sen\, möch­ten wir\, die für die Schü­ler/-innen ver­ant­wort­lich sind\, ein poten­ti­el­les Anste­ckungs­ri­siko so gering wie mög­lich hal­ten. Das gilt selbst­ver­ständ­lich auch für ein Anste­ckungs­ri­siko der übri­gen Schü­ler/-innen. \nDaher wird die für Sams­tag geplante Bil­dungs­messe nach Abspra­che und durch Ver­fü­gung des Gesund­heits­am­tes abgesagt. \nIch bedanke mich bei dem Ver­an­stal­ter “Welt­wei­ser”\, der dar­auf sehr ver­ständ­nis­voll reagiert hat. \nMit freund­li­chen Grüßen\nBern­hard Mieles\nSchul­lei­ter
URL:https://lessing-frankfurt.de/kalender/jugendbildungsmesse/
ATTACH;FMTTYPE=image/png:https://lessing-frankfurt.de/wp-content/uploads/2019/02/weltweiser-jugendbildungsmesse-jubi-messe-300x300.png
END:VEVENT
BEGIN:VEVENT
DTSTART;VALUE=DATE:20200319
DTEND;VALUE=DATE:20200321
DTSTAMP:20260425T154334
CREATED:20181130T115013Z
LAST-MODIFIED:20190731T083506Z
UID:4968-1584583200-1584669599@lessing-frankfurt.de
SUMMARY:schriftl. Abitur
DESCRIPTION:– LK u. GK Englisch
URL:https://lessing-frankfurt.de/kalender/schriftl-abitur-lk-u-gk-e/
END:VEVENT
BEGIN:VEVENT
DTSTART;VALUE=DATE:20200319
DTEND;VALUE=DATE:20200321
DTSTAMP:20260425T154334
CREATED:20181130T164143Z
LAST-MODIFIED:20190731T082351Z
UID:5038-1584583200-1584669599@lessing-frankfurt.de
SUMMARY:Känguru­Wettbewerb
DESCRIPTION:http://www.mathe-kaenguru.de/
URL:https://lessing-frankfurt.de/kalender/kaenguru-wettbewerb/
END:VEVENT
BEGIN:VEVENT
DTSTART;VALUE=DATE:20200320
DTEND;VALUE=DATE:20200322
DTSTAMP:20260425T154334
CREATED:20181130T115146Z
LAST-MODIFIED:20190731T083426Z
UID:4970-1584669600-1584755999@lessing-frankfurt.de
SUMMARY:schriftl. Abitur
DESCRIPTION:– LK u. GK Physik
URL:https://lessing-frankfurt.de/kalender/schriftl-abitur-lk-u-gk-ph/
END:VEVENT
BEGIN:VEVENT
DTSTART;VALUE=DATE:20200321
DTEND;VALUE=DATE:20200323
DTSTAMP:20260425T154334
CREATED:20200122T205419Z
LAST-MODIFIED:20200122T205419Z
UID:8839-1584756000-1584842399@lessing-frankfurt.de
SUMMARY:Lessing-Gymnasium trifft Liebieghaus-Tag
DESCRIPTION:Der vierte „Les­sing-Gym­na­sium trifft Lie­bieg­haus-Tag“ wird den Besu­chern im Rah­men der Aus­stel­lung „Bunte Göt­ter – Gol­den Edi­tion“ die Far­ben der Antike näher­brin­gen. Denn die anti­ken Mar­mor­skulp­tu­ren waren kei­nes­wegs weiß! Die seit 15 Jah­ren über die ganze Welt gereiste Aus­stel­lung ist nun mit einer Gold-Edi­tion wie­der im Lie­bieg­haus. In kur­zen Füh­run­gen sowie Work­shops wer­den der Les­sing-Schul­ge­meinde die ein­zel­nen in ihrer Far­big­keit rekon­stru­ier­ten Expo­nate vor­ge­stellt bzw. die Far­big­keit der Antike erfahr­bar gemacht.
URL:https://lessing-frankfurt.de/kalender/lessing-gymnasium-trifft-liebieghaus-tag/
END:VEVENT
BEGIN:VEVENT
DTSTART;VALUE=DATE:20200323
DTEND;VALUE=DATE:20200325
DTSTAMP:20260425T154334
CREATED:20181130T115235Z
LAST-MODIFIED:20190731T083341Z
UID:4972-1584928800-1585015199@lessing-frankfurt.de
SUMMARY:schriftl. Abitur
DESCRIPTION:– LK Deutsch\, Geschichte\, Musik
URL:https://lessing-frankfurt.de/kalender/schriftl-abitur-lk-d-ges-mu/
END:VEVENT
BEGIN:VEVENT
DTSTART;VALUE=DATE:20200324
DTEND;VALUE=DATE:20200326
DTSTAMP:20260425T154334
CREATED:20181130T115342Z
LAST-MODIFIED:20190731T083303Z
UID:4975-1585015200-1585101599@lessing-frankfurt.de
SUMMARY:schriftl. Abitur
DESCRIPTION:– LK Latein
URL:https://lessing-frankfurt.de/kalender/abitur-lk-l/
END:VEVENT
BEGIN:VEVENT
DTSTART;VALUE=DATE:20200325
DTEND;VALUE=DATE:20200327
DTSTAMP:20260425T154334
CREATED:20181130T115644Z
LAST-MODIFIED:20190731T083217Z
UID:4980-1585101600-1585187999@lessing-frankfurt.de
SUMMARY:schriftl. Abitur
DESCRIPTION:– LK u. GK Mathematik
URL:https://lessing-frankfurt.de/kalender/abitur-lk-u-gk-m/
END:VEVENT
BEGIN:VEVENT
DTSTART;VALUE=DATE:20200326
DTEND;VALUE=DATE:20200328
DTSTAMP:20260425T154334
CREATED:20181130T115736Z
LAST-MODIFIED:20190731T083135Z
UID:4982-1585188000-1585274399@lessing-frankfurt.de
SUMMARY:schriftl. Abitur
DESCRIPTION:– LK u. GK Französisch
URL:https://lessing-frankfurt.de/kalender/abitur-lk-u-gk-fr/
END:VEVENT
BEGIN:VEVENT
DTSTART;VALUE=DATE:20200326
DTEND;VALUE=DATE:20200328
DTSTAMP:20260425T154334
CREATED:20190731T125926Z
LAST-MODIFIED:20190731T125926Z
UID:6793-1585188000-1585274399@lessing-frankfurt.de
SUMMARY:Lessing-Kolleg
DESCRIPTION:
URL:https://lessing-frankfurt.de/kalender/lessing-kolleg-5/
END:VEVENT
BEGIN:VEVENT
DTSTART;VALUE=DATE:20200327
DTEND;VALUE=DATE:20200329
DTSTAMP:20260425T154334
CREATED:20181130T115820Z
LAST-MODIFIED:20190731T083057Z
UID:4984-1585274400-1585360799@lessing-frankfurt.de
SUMMARY:schriftl. Abitur
DESCRIPTION:– LK Griechisch
URL:https://lessing-frankfurt.de/kalender/abitur-lk-u-gk-gr/
END:VEVENT
BEGIN:VEVENT
DTSTART;VALUE=DATE:20200328
DTEND;VALUE=DATE:20200330
DTSTAMP:20260425T154334
CREATED:20181130T164410Z
LAST-MODIFIED:20200217T140954Z
UID:5044-1585360800-1585447199@lessing-frankfurt.de
SUMMARY:Schriftliche DELF-Prüfungen
DESCRIPTION:Aushang/ E‑Mail beachten \nschrift­li­cher Teil der Delf Prüfung\nSams­tag\, 28.3.20 zwi­schen 8:45 und 15:30 je nach Niveau im Les­sing Gymnasium
URL:https://lessing-frankfurt.de/kalender/schriftliche-delf-pruefungen/
END:VEVENT
BEGIN:VEVENT
DTSTART;VALUE=DATE:20200330
DTEND;VALUE=DATE:20200401
DTSTAMP:20260425T154334
CREATED:20181130T112904Z
LAST-MODIFIED:20190905T124532Z
UID:4949-1585533600-1585619999@lessing-frankfurt.de
SUMMARY:Fahrt zum Mathematikum
DESCRIPTION:Der Jahr­gang 9 besucht das Mathe­ma­ti­kum in Giesen
URL:https://lessing-frankfurt.de/kalender/fahrt-zum-mathematikum/
END:VEVENT
BEGIN:VEVENT
DTSTART;VALUE=DATE:20200330
DTEND;VALUE=DATE:20200401
DTSTAMP:20260425T154334
CREATED:20181130T121001Z
LAST-MODIFIED:20190731T082844Z
UID:4996-1585533600-1585619999@lessing-frankfurt.de
SUMMARY:schriftl. Abitur
DESCRIPTION:– GK Deutsch\, Latein\, Grie­chisch\, Kunst\, Musik
URL:https://lessing-frankfurt.de/kalender/abitur-gk-d-l-gr-ku-mu/
END:VEVENT
BEGIN:VEVENT
DTSTART;VALUE=DATE:20200331
DTEND;VALUE=DATE:20200402
DTSTAMP:20260425T154334
CREATED:20181130T121306Z
LAST-MODIFIED:20190731T082803Z
UID:4998-1585620000-1585706399@lessing-frankfurt.de
SUMMARY:schriftl. Abitur
DESCRIPTION:– LK u. GK Chemie
URL:https://lessing-frankfurt.de/kalender/abitur-lk-u-gk-ch/
END:VEVENT
BEGIN:VEVENT
DTSTART;TZID=Europe/Berlin:20200331T190000
DTEND;TZID=Europe/Berlin:20200331T210000
DTSTAMP:20260425T154334
CREATED:20181217T152554Z
LAST-MODIFIED:20191204T170634Z
UID:5583-1585681200-1585688400@lessing-frankfurt.de
SUMMARY:Info-Abend Griechisch/Französisch
DESCRIPTION:
URL:https://lessing-frankfurt.de/kalender/info-abend-griechisch-franzoesisch/
END:VEVENT
END:VCALENDAR