BEGIN:VCALENDAR
VERSION:2.0
PRODID:-//Lessing-Gymnasium - ECPv6.15.17.1//NONSGML v1.0//EN
CALSCALE:GREGORIAN
METHOD:PUBLISH
X-ORIGINAL-URL:https://lessing-frankfurt.de
X-WR-CALDESC:Veranstaltungen für Lessing-Gymnasium
REFRESH-INTERVAL;VALUE=DURATION:PT1H
X-Robots-Tag:noindex
X-PUBLISHED-TTL:PT1H
BEGIN:VTIMEZONE
TZID:Europe/Berlin
BEGIN:DAYLIGHT
TZOFFSETFROM:+0100
TZOFFSETTO:+0200
TZNAME:CEST
DTSTART:20180325T010000
END:DAYLIGHT
BEGIN:STANDARD
TZOFFSETFROM:+0200
TZOFFSETTO:+0100
TZNAME:CET
DTSTART:20181028T010000
END:STANDARD
BEGIN:DAYLIGHT
TZOFFSETFROM:+0100
TZOFFSETTO:+0200
TZNAME:CEST
DTSTART:20190331T010000
END:DAYLIGHT
BEGIN:STANDARD
TZOFFSETFROM:+0200
TZOFFSETTO:+0100
TZNAME:CET
DTSTART:20191027T010000
END:STANDARD
BEGIN:DAYLIGHT
TZOFFSETFROM:+0100
TZOFFSETTO:+0200
TZNAME:CEST
DTSTART:20200329T010000
END:DAYLIGHT
BEGIN:STANDARD
TZOFFSETFROM:+0200
TZOFFSETTO:+0100
TZNAME:CET
DTSTART:20201025T010000
END:STANDARD
BEGIN:DAYLIGHT
TZOFFSETFROM:+0100
TZOFFSETTO:+0200
TZNAME:CEST
DTSTART:20210328T010000
END:DAYLIGHT
BEGIN:STANDARD
TZOFFSETFROM:+0200
TZOFFSETTO:+0100
TZNAME:CET
DTSTART:20211031T010000
END:STANDARD
END:VTIMEZONE
BEGIN:VEVENT
DTSTART;VALUE=DATE:20191202
DTEND;VALUE=DATE:20191204
DTSTAMP:20260419T175559
CREATED:20181024T213916Z
LAST-MODIFIED:20191128T064237Z
UID:3158-1575252000-1575338399@lessing-frankfurt.de
SUMMARY:Adventsgottes­dienst
DESCRIPTION:Der Unter­richt beginnt mit der 3. Stunde
URL:https://lessing-frankfurt.de/kalender/advendsgottesdienst/
END:VEVENT
BEGIN:VEVENT
DTSTART;TZID=Europe/Berlin:20191204T193000
DTEND;TZID=Europe/Berlin:20191204T210000
DTSTAMP:20260419T175559
CREATED:20181022T201755Z
LAST-MODIFIED:20190731T130505Z
UID:2953-1575487800-1575493200@lessing-frankfurt.de
SUMMARY:Informations­abend für Grundschul­eltern
DESCRIPTION:» LINK
URL:https://lessing-frankfurt.de/kalender/informationsabend-fuer-grundschuleltern/
LOCATION:Aula
END:VEVENT
BEGIN:VEVENT
DTSTART;VALUE=DATE:20191205
DTEND;VALUE=DATE:20191207
DTSTAMP:20260419T175559
CREATED:20181024T214253Z
LAST-MODIFIED:20190731T130536Z
UID:3165-1575511200-1575597599@lessing-frankfurt.de
SUMMARY:Mathe­wettbewerb
DESCRIPTION:Hes­si­scher Mathe­ma­tik­wett­be­werb der 8. Klassen
URL:https://lessing-frankfurt.de/kalender/mathewettbewerb/
END:VEVENT
BEGIN:VEVENT
DTSTART;TZID=Europe/Berlin:20191206T080000
DTEND;TZID=Europe/Berlin:20191206T093000
DTSTAMP:20260419T175559
CREATED:20190813T072217Z
LAST-MODIFIED:20190813T075418Z
UID:6859-1575619200-1575624600@lessing-frankfurt.de
SUMMARY:Vorlesewettbewerb der 6. Klassen
DESCRIPTION:
URL:https://lessing-frankfurt.de/kalender/vorlesewettbewerb-der-6-klassen/
END:VEVENT
BEGIN:VEVENT
DTSTART;TZID=Europe/Berlin:20191210T190000
DTEND;TZID=Europe/Berlin:20191210T203000
DTSTAMP:20260419T175559
CREATED:20190811T175412Z
LAST-MODIFIED:20190811T180110Z
UID:6836-1576004400-1576009800@lessing-frankfurt.de
SUMMARY:Niederau-Informations­abend
DESCRIPTION:Genaue Uhr­zei­ten ent­neh­men Sie bitte der ent­spre­chen­den Informationsmail.
URL:https://lessing-frankfurt.de/kalender/niederau-informationsabend/
END:VEVENT
BEGIN:VEVENT
DTSTART;VALUE=DATE:20191217
DTEND;VALUE=DATE:20191219
DTSTAMP:20260419T175559
CREATED:20181024T214530Z
LAST-MODIFIED:20190731T095158Z
UID:3172-1576548000-1576634399@lessing-frankfurt.de
SUMMARY:Ehemaligen­treffen
DESCRIPTION:
URL:https://lessing-frankfurt.de/kalender/ehemaligentreffen/
END:VEVENT
BEGIN:VEVENT
DTSTART;TZID=Europe/Berlin:20191217T190000
DTEND;TZID=Europe/Berlin:20191217T213000
DTSTAMP:20260419T175559
CREATED:20181024T214505Z
LAST-MODIFIED:20190731T095101Z
UID:3170-1576609200-1576618200@lessing-frankfurt.de
SUMMARY:Adventskonzert
DESCRIPTION:Pro­gramm
URL:https://lessing-frankfurt.de/kalender/advendskonzert/
ATTACH;FMTTYPE=image/jpeg:https://lessing-frankfurt.de/wp-content/uploads/2018/12/Adventskonzert-2018_Seite_1.jpg
END:VEVENT
BEGIN:VEVENT
DTSTART;VALUE=DATE:20191221
DTEND;VALUE=DATE:20200114
DTSTAMP:20260419T175559
CREATED:20181024T214653Z
LAST-MODIFIED:20190731T094906Z
UID:3177-1576893600-1578880799@lessing-frankfurt.de
SUMMARY:Weihnachts­ferien
DESCRIPTION:
URL:https://lessing-frankfurt.de/kalender/weihnachtsferien/
END:VEVENT
END:VCALENDAR