BEGIN:VCALENDAR
VERSION:2.0
PRODID:-//Lessing-Gymnasium - ECPv6.15.17.1//NONSGML v1.0//EN
CALSCALE:GREGORIAN
METHOD:PUBLISH
X-WR-CALNAME:Lessing-Gymnasium
X-ORIGINAL-URL:https://lessing-frankfurt.de
X-WR-CALDESC:Veranstaltungen für Lessing-Gymnasium
REFRESH-INTERVAL;VALUE=DURATION:PT1H
X-Robots-Tag:noindex
X-PUBLISHED-TTL:PT1H
BEGIN:VTIMEZONE
TZID:Europe/Berlin
BEGIN:DAYLIGHT
TZOFFSETFROM:+0100
TZOFFSETTO:+0200
TZNAME:CEST
DTSTART:20180325T010000
END:DAYLIGHT
BEGIN:STANDARD
TZOFFSETFROM:+0200
TZOFFSETTO:+0100
TZNAME:CET
DTSTART:20181028T010000
END:STANDARD
BEGIN:DAYLIGHT
TZOFFSETFROM:+0100
TZOFFSETTO:+0200
TZNAME:CEST
DTSTART:20190331T010000
END:DAYLIGHT
BEGIN:STANDARD
TZOFFSETFROM:+0200
TZOFFSETTO:+0100
TZNAME:CET
DTSTART:20191027T010000
END:STANDARD
BEGIN:DAYLIGHT
TZOFFSETFROM:+0100
TZOFFSETTO:+0200
TZNAME:CEST
DTSTART:20200329T010000
END:DAYLIGHT
BEGIN:STANDARD
TZOFFSETFROM:+0200
TZOFFSETTO:+0100
TZNAME:CET
DTSTART:20201025T010000
END:STANDARD
END:VTIMEZONE
BEGIN:VEVENT
DTSTART;VALUE=DATE:20190930
DTEND;VALUE=DATE:20191013
DTSTAMP:20260425T124446
CREATED:20190731T122100Z
LAST-MODIFIED:20190731T125310Z
UID:6761-1569808800-1570845599@lessing-frankfurt.de
SUMMARY:Herbstferien 2019
DESCRIPTION:
URL:https://lessing-frankfurt.de/kalender/herbstferien/
END:VEVENT
BEGIN:VEVENT
DTSTART;VALUE=DATE:20191015
DTEND;VALUE=DATE:20191017
DTSTAMP:20260425T124446
CREATED:20190811T175631Z
LAST-MODIFIED:20190811T175631Z
UID:6839-1571104800-1571191199@lessing-frankfurt.de
SUMMARY:Anmeldung Niederau
DESCRIPTION:Diens­tag 15.10.: Jahr­gang 6 ab 15.00 Uhr; Jahr­gang 5 ab 15.15 Uhr; 12.Jahrgang ab 15.30 Uhr\nFrei­tag 18.10.: Jahr­gang 8 ab 14.30 Uhr; Jahr­gang 7 ab 15.00 Uhr; Jahr­gangs­stufe 11 ab 15.45 Uhr\nMon­tag 21.10.: Jahr­gangs­stufe 9 ab 14.30 Uhr; Jahr­gangs­stufe 10 ab 15.15 Uhr
URL:https://lessing-frankfurt.de/kalender/anmeldung-niederau/
END:VEVENT
BEGIN:VEVENT
DTSTART;VALUE=DATE:20191016
DTEND;VALUE=DATE:20191018
DTSTAMP:20260425T124446
CREATED:20190731T125544Z
LAST-MODIFIED:20190731T125544Z
UID:6787-1571191200-1571277599@lessing-frankfurt.de
SUMMARY:Lessing-Kolleg
DESCRIPTION:
URL:https://lessing-frankfurt.de/kalender/lessing-kolleg-2/
END:VEVENT
BEGIN:VEVENT
DTSTART;TZID=Europe/Berlin:20191017T134500
DTEND;TZID=Europe/Berlin:20191017T144500
DTSTAMP:20260425T124446
CREATED:20190906T085744Z
LAST-MODIFIED:20190906T085757Z
UID:7165-1571319900-1571323500@lessing-frankfurt.de
SUMMARY:Termin zur Gestaltung der Feier Alte Oper
DESCRIPTION:Raum 102
URL:https://lessing-frankfurt.de/kalender/termin-zur-gestaltung-der-feier-alte-oper/
END:VEVENT
BEGIN:VEVENT
DTSTART;VALUE=DATE:20191018
DTEND;VALUE=DATE:20191020
DTSTAMP:20260425T124446
CREATED:20190811T175709Z
LAST-MODIFIED:20190811T175709Z
UID:6841-1571364000-1571450399@lessing-frankfurt.de
SUMMARY:Anmeldung Niederau
DESCRIPTION:Diens­tag 15.10.: Jahr­gang 6 ab 15.00 Uhr; Jahr­gang 5 ab 15.15 Uhr; 12.Jahrgang ab 15.30 Uhr\nFrei­tag 18.10.: Jahr­gang 8 ab 14.30 Uhr; Jahr­gang 7 ab 15.00 Uhr; Jahr­gangs­stufe 11 ab 15.45 Uhr\nMon­tag 21.10.: Jahr­gangs­stufe 9 ab 14.30 Uhr; Jahr­gangs­stufe 10 ab 15.15 Uhr
URL:https://lessing-frankfurt.de/kalender/anmeldung-niederau-2/
END:VEVENT
BEGIN:VEVENT
DTSTART;VALUE=DATE:20191021
DTEND;VALUE=DATE:20191023
DTSTAMP:20260425T124446
CREATED:20190811T175733Z
LAST-MODIFIED:20190811T175733Z
UID:6843-1571623200-1571709599@lessing-frankfurt.de
SUMMARY:Anmeldung Niederau
DESCRIPTION:Diens­tag 15.10.: Jahr­gang 6 ab 15.00 Uhr; Jahr­gang 5 ab 15.15 Uhr; 12.Jahrgang ab 15.30 Uhr\nFrei­tag 18.10.: Jahr­gang 8 ab 14.30 Uhr; Jahr­gang 7 ab 15.00 Uhr; Jahr­gangs­stufe 11 ab 15.45 Uhr\nMon­tag 21.10.: Jahr­gangs­stufe 9 ab 14.30 Uhr; Jahr­gangs­stufe 10 ab 15.15 Uhr
URL:https://lessing-frankfurt.de/kalender/anmeldung-niederau-3/
END:VEVENT
BEGIN:VEVENT
DTSTART;VALUE=DATE:20191021
DTEND;VALUE=DATE:20191023
DTSTAMP:20260425T124446
CREATED:20190813T075623Z
LAST-MODIFIED:20190813T075623Z
UID:6861-1571623200-1571709599@lessing-frankfurt.de
SUMMARY:Methodentag 5. Klassen
DESCRIPTION:
URL:https://lessing-frankfurt.de/kalender/methodentag-5-klassen/
END:VEVENT
BEGIN:VEVENT
DTSTART;VALUE=DATE:20191024
DTEND;VALUE=DATE:20191026
DTSTAMP:20260425T124446
CREATED:20181022T204303Z
LAST-MODIFIED:20190913T060110Z
UID:2960-1571882400-1571968799@lessing-frankfurt.de
SUMMARY:Fahrt nach Trier
DESCRIPTION:Ganz­ta­ges­aus­flug des 7. Jahr­gangs nach Trier.
URL:https://lessing-frankfurt.de/kalender/fahrt-nach-trier/
END:VEVENT
BEGIN:VEVENT
DTSTART;VALUE=DATE:20191027
DTEND;VALUE=DATE:20191029
DTSTAMP:20260425T124446
CREATED:20190913T055300Z
LAST-MODIFIED:20190913T060022Z
UID:7347-1572141600-1572227999@lessing-frankfurt.de
SUMMARY:Mini-Marathon und Staffel-Marathon von Mainova
DESCRIPTION:Die Läufe star­ten in der Lud­wig Ebert Anlage mit Ziel­ein­lauf auf dem roten Tep­pich in der Fest­halle. Jede® Teilnehmer(in) erhält einen Star­ter­beu­tel mit vie­len Prä­sen­ten und eine Medaille im Ziel. Die fünf erst­plat­zier­ten Schul­mann­schaf­ten erhal­ten attrak­tive Preis­gel­der für ihre Schu­len! Wei­tere Infor­ma­tio­nen via https://www.frankfurt-marathon.com/dein-lauf/mini-marathon/ und www.frankfurt-marathon.com/dein-lauf/staffelmarathon/\n\nFol­gende Stre­cken sind mög­lich\, wobei das gemein­same Erleb­nis und nicht die Zeit im Vor­der­grund steht.\n\n10:55 Uhr — 4\,2km Mini­ma­ra­thon für Schüler/Innen im Alter von 8 bis 16 Jah­ren (Start­ge­bühr 8 Euro bis Ende September)\n10:35 Uhr Staf­fel­ma­ra­thon für 4 Per­so­nen (Fami­lie und/oder Freunde). Die Distanz von 42\,195 km auf der Stre­cke des Mai­nova Frank­furt Mara­thon wird auf 1. Läu­fer: 12\,9 km\, 2. Läu­fer: 6\,1 km\, 3. Läu­fer: 9\,5 km\, 4. Läu­fer: 13\,5 km auf­ge­teilt. (Start­ge­bühr Team 176 Euro bis Ende September)
URL:https://lessing-frankfurt.de/kalender/mini-marathon-und-staffel-marathon-von-mainova/
END:VEVENT
BEGIN:VEVENT
DTSTART;TZID=Europe/Berlin:20191031T133000
DTEND;TZID=Europe/Berlin:20191031T170000
DTSTAMP:20260425T124446
CREATED:20181022T204525Z
LAST-MODIFIED:20190731T130303Z
UID:2966-1572528600-1572541200@lessing-frankfurt.de
SUMMARY:Gesamt­konferenz
DESCRIPTION:Bitte den schul­in­ter­nen Aus­hang beachten.
URL:https://lessing-frankfurt.de/kalender/gesamtkonferenz-3/
END:VEVENT
BEGIN:VEVENT
DTSTART;TZID=Europe/Berlin:20191031T140000
DTEND;TZID=Europe/Berlin:20191031T170000
DTSTAMP:20260425T124446
CREATED:20180807T202155Z
LAST-MODIFIED:20190731T121456Z
UID:2158-1572530400-1572541200@lessing-frankfurt.de
SUMMARY:Pädagogische Konferenzen Kl. 5
DESCRIPTION:Bitte den schul­in­ter­nen Aus­hang beachten.
URL:https://lessing-frankfurt.de/kalender/paedagogische-konferenzen-kl-5-8/
END:VEVENT
END:VCALENDAR