BEGIN:VCALENDAR
VERSION:2.0
PRODID:-//Lessing-Gymnasium - ECPv6.15.17.1//NONSGML v1.0//EN
CALSCALE:GREGORIAN
METHOD:PUBLISH
X-ORIGINAL-URL:https://lessing-frankfurt.de
X-WR-CALDESC:Veranstaltungen für Lessing-Gymnasium
REFRESH-INTERVAL;VALUE=DURATION:PT1H
X-Robots-Tag:noindex
X-PUBLISHED-TTL:PT1H
BEGIN:VTIMEZONE
TZID:Europe/Berlin
BEGIN:DAYLIGHT
TZOFFSETFROM:+0100
TZOFFSETTO:+0200
TZNAME:CEST
DTSTART:20180325T010000
END:DAYLIGHT
BEGIN:STANDARD
TZOFFSETFROM:+0200
TZOFFSETTO:+0100
TZNAME:CET
DTSTART:20181028T010000
END:STANDARD
BEGIN:DAYLIGHT
TZOFFSETFROM:+0100
TZOFFSETTO:+0200
TZNAME:CEST
DTSTART:20190331T010000
END:DAYLIGHT
BEGIN:STANDARD
TZOFFSETFROM:+0200
TZOFFSETTO:+0100
TZNAME:CET
DTSTART:20191027T010000
END:STANDARD
BEGIN:DAYLIGHT
TZOFFSETFROM:+0100
TZOFFSETTO:+0200
TZNAME:CEST
DTSTART:20200329T010000
END:DAYLIGHT
BEGIN:STANDARD
TZOFFSETFROM:+0200
TZOFFSETTO:+0100
TZNAME:CET
DTSTART:20201025T010000
END:STANDARD
END:VTIMEZONE
BEGIN:VEVENT
DTSTART;TZID=Europe/Berlin:20190207T160000
DTEND;TZID=Europe/Berlin:20190207T190000
DTSTAMP:20260426T043305
CREATED:20181220T105307Z
LAST-MODIFIED:20190123T191913Z
UID:5586-1549555200-1549566000@lessing-frankfurt.de
SUMMARY:Öffentliche Generalprobe „Lessings Räuberwald“
DESCRIPTION:Es sind ins­ge­samt 21 Schau­spie­le­rin­nen und Schau­spie­ler an den Pro­ben und Auf­füh­run­gen betei­ligt\, die sich schon freu­dig auf­ge­regt auf ein gro­ßes Publi­kum freuen.\nDies­mal gestal­ten wir einen Räu­ber­wald in der Aula des Les­sing-Gym­na­si­ums frei nach Astrid Lind­gren mit zwei kon­kur­rie­ren­den Räu­ber­ban­den\, die sich mit den gro­ßen Her­aus­for­de­run­gen des Lebens in und um den Wald auseinandersetzen.
URL:https://lessing-frankfurt.de/kalender/oeffentliche-generalprobe-lessings-raeuberwald/
ATTACH;FMTTYPE=image/jpeg:https://lessing-frankfurt.de/wp-content/uploads/2019/01/Plakat-Räuberwald.jpg
END:VEVENT
BEGIN:VEVENT
DTSTART;TZID=Europe/Berlin:20190220T080000
DTEND;TZID=Europe/Berlin:20190220T084500
DTSTAMP:20260426T043305
CREATED:20181130T113501Z
LAST-MODIFIED:20181130T113501Z
UID:4951-1550649600-1550652300@lessing-frankfurt.de
SUMMARY:SV-Stunde
DESCRIPTION:1. Stunde
URL:https://lessing-frankfurt.de/kalender/sv-stunde-3/
END:VEVENT
BEGIN:VEVENT
DTSTART;TZID=Europe/Berlin:20190221T133000
DTEND;TZID=Europe/Berlin:20190221T170000
DTSTAMP:20260426T043305
CREATED:20181130T114350Z
LAST-MODIFIED:20181130T162334Z
UID:4959-1550755800-1550768400@lessing-frankfurt.de
SUMMARY:Gesamtkonferenz
DESCRIPTION:Für den NAch­mit­tags­un­ter­richt den Ver­tre­tungs­plan beachten.
URL:https://lessing-frankfurt.de/kalender/gesamtkonferenz-2/
END:VEVENT
END:VCALENDAR