BEGIN:VCALENDAR
VERSION:2.0
PRODID:-//Lessing-Gymnasium - ECPv6.15.17.1//NONSGML v1.0//EN
CALSCALE:GREGORIAN
METHOD:PUBLISH
X-WR-CALNAME:Lessing-Gymnasium
X-ORIGINAL-URL:https://lessing-frankfurt.de
X-WR-CALDESC:Veranstaltungen für Lessing-Gymnasium
REFRESH-INTERVAL;VALUE=DURATION:PT1H
X-Robots-Tag:noindex
X-PUBLISHED-TTL:PT1H
BEGIN:VTIMEZONE
TZID:Europe/Berlin
BEGIN:DAYLIGHT
TZOFFSETFROM:+0100
TZOFFSETTO:+0200
TZNAME:CEST
DTSTART:20180325T010000
END:DAYLIGHT
BEGIN:STANDARD
TZOFFSETFROM:+0200
TZOFFSETTO:+0100
TZNAME:CET
DTSTART:20181028T010000
END:STANDARD
BEGIN:DAYLIGHT
TZOFFSETFROM:+0100
TZOFFSETTO:+0200
TZNAME:CEST
DTSTART:20190331T010000
END:DAYLIGHT
BEGIN:STANDARD
TZOFFSETFROM:+0200
TZOFFSETTO:+0100
TZNAME:CET
DTSTART:20191027T010000
END:STANDARD
BEGIN:DAYLIGHT
TZOFFSETFROM:+0100
TZOFFSETTO:+0200
TZNAME:CEST
DTSTART:20200329T010000
END:DAYLIGHT
BEGIN:STANDARD
TZOFFSETFROM:+0200
TZOFFSETTO:+0100
TZNAME:CET
DTSTART:20201025T010000
END:STANDARD
END:VTIMEZONE
BEGIN:VEVENT
DTSTART;VALUE=DATE:20190114
DTEND;VALUE=DATE:20190116
DTSTAMP:20260426T060742
CREATED:20181130T082526Z
LAST-MODIFIED:20181130T172230Z
UID:4883-1547431200-1547517599@lessing-frankfurt.de
SUMMARY:Planungstag 500 Jahrfeier
DESCRIPTION:Unter­richts­frei für SchülerInnen
URL:https://lessing-frankfurt.de/kalender/planungstag-500-jahrfeier/
END:VEVENT
BEGIN:VEVENT
DTSTART;VALUE=DATE:20190117
DTEND;VALUE=DATE:20190120
DTSTAMP:20260426T060742
CREATED:20181130T161334Z
LAST-MODIFIED:20181130T161334Z
UID:5012-1547690400-1547863199@lessing-frankfurt.de
SUMMARY:Fototermin
DESCRIPTION:Aus­hänge beachten
URL:https://lessing-frankfurt.de/kalender/fototermin/
END:VEVENT
BEGIN:VEVENT
DTSTART;VALUE=DATE:20190118
DTEND;VALUE=DATE:20190120
DTSTAMP:20260426T060742
CREATED:20180821T143625Z
LAST-MODIFIED:20181130T110808Z
UID:2336-1547776800-1547863199@lessing-frankfurt.de
SUMMARY:Ende Praxis­semester am Lessing-Gymnasium
DESCRIPTION:Praxissemester vom 03.09.2018 — 18.01.2019\nIm obi­gen Zeit­raum wer­den Stu­die­rende ihr Pra­xis­se­mes­ters bei uns an der Schule absolvieren.
URL:https://lessing-frankfurt.de/kalender/ende-praxissemester-am-lessing-gymnasium/
END:VEVENT
BEGIN:VEVENT
DTSTART;TZID=Europe/Berlin:20190122T080000
DTEND;TZID=Europe/Berlin:20190122T130000
DTSTAMP:20260426T060742
CREATED:20181130T083127Z
LAST-MODIFIED:20181130T091728Z
UID:4893-1548144000-1548162000@lessing-frankfurt.de
SUMMARY:Vorbereitungs­tag Sozial­praktikum
DESCRIPTION:BM; 9ab; 1.–6. Std.; R101\,102\,104
URL:https://lessing-frankfurt.de/kalender/vorbereitungstag-sozialpraktikum-2/
END:VEVENT
BEGIN:VEVENT
DTSTART;TZID=Europe/Berlin:20190125T080000
DTEND;TZID=Europe/Berlin:20190125T130000
DTSTAMP:20260426T060742
CREATED:20181130T083050Z
LAST-MODIFIED:20181130T091835Z
UID:4891-1548403200-1548421200@lessing-frankfurt.de
SUMMARY:Vorbereitungs­tag Sozial­praktikum
DESCRIPTION:BM; 9cd; 1.–6. Std.; R201\,202\,204
URL:https://lessing-frankfurt.de/kalender/vorbereitungstag-sozialpraktikum/
END:VEVENT
END:VCALENDAR