BEGIN:VCALENDAR
VERSION:2.0
PRODID:-//Lessing-Gymnasium - ECPv6.15.17.1//NONSGML v1.0//EN
CALSCALE:GREGORIAN
METHOD:PUBLISH
X-WR-CALNAME:Lessing-Gymnasium
X-ORIGINAL-URL:https://lessing-frankfurt.de
X-WR-CALDESC:Veranstaltungen für Lessing-Gymnasium
REFRESH-INTERVAL;VALUE=DURATION:PT1H
X-Robots-Tag:noindex
X-PUBLISHED-TTL:PT1H
BEGIN:VTIMEZONE
TZID:Europe/Berlin
BEGIN:DAYLIGHT
TZOFFSETFROM:+0100
TZOFFSETTO:+0200
TZNAME:CEST
DTSTART:20190331T010000
END:DAYLIGHT
BEGIN:STANDARD
TZOFFSETFROM:+0200
TZOFFSETTO:+0100
TZNAME:CET
DTSTART:20191027T010000
END:STANDARD
BEGIN:DAYLIGHT
TZOFFSETFROM:+0100
TZOFFSETTO:+0200
TZNAME:CEST
DTSTART:20200329T010000
END:DAYLIGHT
BEGIN:STANDARD
TZOFFSETFROM:+0200
TZOFFSETTO:+0100
TZNAME:CET
DTSTART:20201025T010000
END:STANDARD
BEGIN:DAYLIGHT
TZOFFSETFROM:+0100
TZOFFSETTO:+0200
TZNAME:CEST
DTSTART:20210328T010000
END:DAYLIGHT
BEGIN:STANDARD
TZOFFSETFROM:+0200
TZOFFSETTO:+0100
TZNAME:CET
DTSTART:20211031T010000
END:STANDARD
END:VTIMEZONE
BEGIN:VEVENT
DTSTART;VALUE=DATE:20200203
DTEND;VALUE=DATE:20200216
DTSTAMP:20260425T141518
CREATED:20181130T111911Z
LAST-MODIFIED:20190731T090146Z
UID:4937-1580695200-1581731999@lessing-frankfurt.de
SUMMARY:Sozial­praktikum
DESCRIPTION:Die 9. Klas­sen absol­vie­ren vom 4.2.2019 — 15.2.2019 ihr Sozialpraktikum.
URL:https://lessing-frankfurt.de/kalender/sozialpraktikum-klassen-9/
END:VEVENT
BEGIN:VEVENT
DTSTART;TZID=Europe/Berlin:20200214T133000
DTEND;TZID=Europe/Berlin:20200214T153000
DTSTAMP:20260425T141518
CREATED:20200113T162309Z
LAST-MODIFIED:20200113T162309Z
UID:8552-1581687000-1581694200@lessing-frankfurt.de
SUMMARY:Vortrag zum Klimawandel
DESCRIPTION:Die kli­ma­ti­schen Ver­än­de­run­gen beschäf­ti­gen die Öffent­lich­keit nach wie vor in einem sehr inten­si­ven Maße. Auch wenn die Fri­days-for-future-Bewe­gung in ihrer media­len Prä­senz etwas abge­nom­men hat\, bleibt die auf vie­len Ebe­nen spür- und sicht­bare Ver­än­de­rung ein Thema. \nAuch auf Initia­tive der SV ist es uns gelun­gen\, den renom­mier­ten For­scher Prof. Cur­tius der Goe­the-Uni­ver­si­tät (Expe­ri­men­telle Atmo­sphä­ren­for­schung\, Insti­tut für Atmo­sphäre und Umwelt\, Fach­be­reich Geowissenschaften/Geographie) zu zwei Fach­vor­trä­gen für unsere Schü­ler/-innen ein­zu­la­den. In die­sem Vor­trag wird Prof. Cur­tius schü­ler­ge­recht Ent­ste­hungs­be­din­gun­gen und Zusam­men­hänge wis­sen­schaft­lich erläutern. \nDer  für die Jahr­gangs­stu­fen E‑Phase bis Q4 fin­det am 14.2. in der 7.+8. Stunde statt.
URL:https://lessing-frankfurt.de/kalender/vortrag-zum-klimawandel-2/
END:VEVENT
BEGIN:VEVENT
DTSTART;TZID=Europe/Berlin:20200214T150000
DTEND;TZID=Europe/Berlin:20200214T163000
DTSTAMP:20260425T141518
CREATED:20181130T112739Z
LAST-MODIFIED:20200113T163928Z
UID:4947-1581692400-1581697800@lessing-frankfurt.de
SUMMARY:Lk-Beratung der E-Phase durch die Q4
DESCRIPTION:ab 15:00 Uhr\, Aula:\nE2: Vor­stel­lung der Leis­tungs­kurse durch Schü­ler der Q4\, mit der Mög­lich­keit Fra­gen zu stellen.
URL:https://lessing-frankfurt.de/kalender/lk-beratung-der-e-phase-durch-die-q4/
END:VEVENT
BEGIN:VEVENT
DTSTART;TZID=Europe/Berlin:20200214T160000
DTEND;TZID=Europe/Berlin:20200214T190000
DTSTAMP:20260425T141518
CREATED:20181130T112555Z
LAST-MODIFIED:20200126T184135Z
UID:4945-1581696000-1581706800@lessing-frankfurt.de
SUMMARY:Eltern­sprechtag
DESCRIPTION:Sehr geehrte Eltern\, \nvon 16:00 — 19:00 Uhr fin­det der Eltern­sprech­tag am Les­sing-Gym­na­sium statt. Die Anmel­dung zum Eltern­sprech­tag erfolgt online. \nEltern\, wel­che von Lehrer*innen zu einem Gespräch am Eltern­sprech­tag ein­ge­la­den wur­den\, haben die Mög­lich­keit sich ab Diens­tag vor dem Sprech­tag\, ab 18:00 Uhr Ter­mine zu sichern. Die Ein­la­dung erfolgt durch die Lehrerin/ den Leh­rer selbst\, z.B. über eine E‑Mail oder die Ranzenpost. \nFür alle Eltern ist die Anmel­dung dann ab 19:00 Uhr frei­ge­schal­tet. \n\nDie Anmel­dung endet am Mitt­woch 22:00 Uhr. \n\nFol­gen Sie dem Link zur Anmel­dung zum Eltern­sprech­tag und bei Fra­gen hilft Ihnen die Schritt für Schritt Anlei­tung.
URL:https://lessing-frankfurt.de/kalender/elternsprechtag/
END:VEVENT
END:VCALENDAR