BEGIN:VCALENDAR
VERSION:2.0
PRODID:-//Lessing-Gymnasium - ECPv6.15.17.1//NONSGML v1.0//EN
CALSCALE:GREGORIAN
METHOD:PUBLISH
X-WR-CALNAME:Lessing-Gymnasium
X-ORIGINAL-URL:https://lessing-frankfurt.de
X-WR-CALDESC:Veranstaltungen für Lessing-Gymnasium
REFRESH-INTERVAL;VALUE=DURATION:PT1H
X-Robots-Tag:noindex
X-PUBLISHED-TTL:PT1H
BEGIN:VTIMEZONE
TZID:Europe/Berlin
BEGIN:DAYLIGHT
TZOFFSETFROM:+0100
TZOFFSETTO:+0200
TZNAME:CEST
DTSTART:20190331T010000
END:DAYLIGHT
BEGIN:STANDARD
TZOFFSETFROM:+0200
TZOFFSETTO:+0100
TZNAME:CET
DTSTART:20191027T010000
END:STANDARD
BEGIN:DAYLIGHT
TZOFFSETFROM:+0100
TZOFFSETTO:+0200
TZNAME:CEST
DTSTART:20200329T010000
END:DAYLIGHT
BEGIN:STANDARD
TZOFFSETFROM:+0200
TZOFFSETTO:+0100
TZNAME:CET
DTSTART:20201025T010000
END:STANDARD
BEGIN:DAYLIGHT
TZOFFSETFROM:+0100
TZOFFSETTO:+0200
TZNAME:CEST
DTSTART:20210328T010000
END:DAYLIGHT
BEGIN:STANDARD
TZOFFSETFROM:+0200
TZOFFSETTO:+0100
TZNAME:CET
DTSTART:20211031T010000
END:STANDARD
END:VTIMEZONE
BEGIN:VEVENT
DTSTART;VALUE=DATE:20200203
DTEND;VALUE=DATE:20200216
DTSTAMP:20260425T154148
CREATED:20181130T111911Z
LAST-MODIFIED:20190731T090146Z
UID:4937-1580695200-1581731999@lessing-frankfurt.de
SUMMARY:Sozial­praktikum
DESCRIPTION:Die 9. Klas­sen absol­vie­ren vom 4.2.2019 — 15.2.2019 ihr Sozialpraktikum.
URL:https://lessing-frankfurt.de/kalender/sozialpraktikum-klassen-9/
END:VEVENT
BEGIN:VEVENT
DTSTART;TZID=Europe/Berlin:20200208T083000
DTEND;TZID=Europe/Berlin:20200208T123000
DTSTAMP:20260425T154148
CREATED:20181022T203811Z
LAST-MODIFIED:20200122T204512Z
UID:2957-1581150600-1581165000@lessing-frankfurt.de
SUMMARY:Tag der offenen Tür
DESCRIPTION:Der Tag der offe­nen Tür fin­det am Sams­tag\, dem 08.02.2020 statt. An die­sem Tag haben alle Eltern und deren Kin­der in der Zeit von 9:00 bis 12:00 Uhr die Mög­lich­keit\, unsere Schule näher ken­nen­zu­ler­nen. Ins­be­son­dere gibt es das Ange­bot\, den Unter­richt in ver­schie­de­nen Fächern und Klas­sen zu besu­chen. Wir freuen uns auf Ihren Besuch!
URL:https://lessing-frankfurt.de/kalender/tag-der-offenen-tuer/
ATTACH;FMTTYPE=image/jpeg:https://lessing-frankfurt.de/wp-content/uploads/2018/10/Tag-der-offenen-Tür-2-1-e1540370419118.jpg
END:VEVENT
END:VCALENDAR