BEGIN:VCALENDAR
VERSION:2.0
PRODID:-//Lessing-Gymnasium - ECPv6.15.17.1//NONSGML v1.0//EN
CALSCALE:GREGORIAN
METHOD:PUBLISH
X-ORIGINAL-URL:https://lessing-frankfurt.de
X-WR-CALDESC:Veranstaltungen für Lessing-Gymnasium
REFRESH-INTERVAL;VALUE=DURATION:PT1H
X-Robots-Tag:noindex
X-PUBLISHED-TTL:PT1H
BEGIN:VTIMEZONE
TZID:Europe/Berlin
BEGIN:DAYLIGHT
TZOFFSETFROM:+0100
TZOFFSETTO:+0200
TZNAME:CEST
DTSTART:20190331T010000
END:DAYLIGHT
BEGIN:STANDARD
TZOFFSETFROM:+0200
TZOFFSETTO:+0100
TZNAME:CET
DTSTART:20191027T010000
END:STANDARD
BEGIN:DAYLIGHT
TZOFFSETFROM:+0100
TZOFFSETTO:+0200
TZNAME:CEST
DTSTART:20200329T010000
END:DAYLIGHT
BEGIN:STANDARD
TZOFFSETFROM:+0200
TZOFFSETTO:+0100
TZNAME:CET
DTSTART:20201025T010000
END:STANDARD
BEGIN:DAYLIGHT
TZOFFSETFROM:+0100
TZOFFSETTO:+0200
TZNAME:CEST
DTSTART:20210328T010000
END:DAYLIGHT
BEGIN:STANDARD
TZOFFSETFROM:+0200
TZOFFSETTO:+0100
TZNAME:CET
DTSTART:20211031T010000
END:STANDARD
END:VTIMEZONE
BEGIN:VEVENT
DTSTART;VALUE=DATE:20200203
DTEND;VALUE=DATE:20200205
DTSTAMP:20260425T154408
CREATED:20181130T093125Z
LAST-MODIFIED:20190731T091311Z
UID:4920-1580695200-1580781599@lessing-frankfurt.de
SUMMARY:Beginn 2. HJ
DESCRIPTION:
URL:https://lessing-frankfurt.de/kalender/beginn-2-hj/
END:VEVENT
BEGIN:VEVENT
DTSTART;VALUE=DATE:20200203
DTEND;VALUE=DATE:20200216
DTSTAMP:20260425T154408
CREATED:20181130T111911Z
LAST-MODIFIED:20190731T090146Z
UID:4937-1580695200-1581731999@lessing-frankfurt.de
SUMMARY:Sozial­praktikum
DESCRIPTION:Die 9. Klas­sen absol­vie­ren vom 4.2.2019 — 15.2.2019 ihr Sozialpraktikum.
URL:https://lessing-frankfurt.de/kalender/sozialpraktikum-klassen-9/
END:VEVENT
BEGIN:VEVENT
DTSTART;VALUE=DATE:20200203
DTEND;VALUE=DATE:20200205
DTSTAMP:20260425T154408
CREATED:20181130T112219Z
LAST-MODIFIED:20190731T091152Z
UID:4940-1580695200-1580781599@lessing-frankfurt.de
SUMMARY:Q4: Meldung zur Abiturprüfung
DESCRIPTION:Raum 132 (Zei­ten siehe Aushang)\nDer Unter­richt für Q4 fin­det statt!
URL:https://lessing-frankfurt.de/kalender/meldung-zur-abiturpruefung/
END:VEVENT
BEGIN:VEVENT
DTSTART;TZID=Europe/Berlin:20200203T080000
DTEND;TZID=Europe/Berlin:20200203T170000
DTSTAMP:20260425T154408
CREATED:20181130T103639Z
LAST-MODIFIED:20190801T114830Z
UID:4922-1580716800-1580749200@lessing-frankfurt.de
SUMMARY:E-Phase: Beratung LK-Wahl
DESCRIPTION:Ein­zel­be­ra­tung der Schü­le­rin­nen und Schü­ler durch die Klas­sen­leh­rer (Leis­tungs­kurs­wahl).\nDer Unter­richt für E2 fin­det statt!
URL:https://lessing-frankfurt.de/kalender/e-phase-beratung-lk-wahl/
END:VEVENT
END:VCALENDAR