BEGIN:VCALENDAR
VERSION:2.0
PRODID:-//Lessing-Gymnasium - ECPv6.15.17.1//NONSGML v1.0//EN
CALSCALE:GREGORIAN
METHOD:PUBLISH
X-ORIGINAL-URL:https://lessing-frankfurt.de
X-WR-CALDESC:Veranstaltungen für Lessing-Gymnasium
REFRESH-INTERVAL;VALUE=DURATION:PT1H
X-Robots-Tag:noindex
X-PUBLISHED-TTL:PT1H
BEGIN:VTIMEZONE
TZID:Europe/Berlin
BEGIN:DAYLIGHT
TZOFFSETFROM:+0100
TZOFFSETTO:+0200
TZNAME:CEST
DTSTART:20190331T010000
END:DAYLIGHT
BEGIN:STANDARD
TZOFFSETFROM:+0200
TZOFFSETTO:+0100
TZNAME:CET
DTSTART:20191027T010000
END:STANDARD
BEGIN:DAYLIGHT
TZOFFSETFROM:+0100
TZOFFSETTO:+0200
TZNAME:CEST
DTSTART:20200329T010000
END:DAYLIGHT
BEGIN:STANDARD
TZOFFSETFROM:+0200
TZOFFSETTO:+0100
TZNAME:CET
DTSTART:20201025T010000
END:STANDARD
BEGIN:DAYLIGHT
TZOFFSETFROM:+0100
TZOFFSETTO:+0200
TZNAME:CEST
DTSTART:20210328T010000
END:DAYLIGHT
BEGIN:STANDARD
TZOFFSETFROM:+0200
TZOFFSETTO:+0100
TZNAME:CET
DTSTART:20211031T010000
END:STANDARD
END:VTIMEZONE
BEGIN:VEVENT
DTSTART;VALUE=DATE:20200128
DTEND;VALUE=DATE:20200201
DTSTAMP:20260425T124633
CREATED:20181130T111630Z
LAST-MODIFIED:20190731T091745Z
UID:4934-1580176800-1580435999@lessing-frankfurt.de
SUMMARY:Fahrt nach Weimar Q1
DESCRIPTION:LK Deutsch und Geschichte
URL:https://lessing-frankfurt.de/kalender/fahrt-nach-weimar/
END:VEVENT
BEGIN:VEVENT
DTSTART;TZID=Europe/Berlin:20200128T193000
DTEND;TZID=Europe/Berlin:20200128T210000
DTSTAMP:20260425T124634
CREATED:20190519T084716Z
LAST-MODIFIED:20191204T170528Z
UID:6517-1580239800-1580245200@lessing-frankfurt.de
SUMMARY:Schulkonferenz
DESCRIPTION:19:30 – 21:00 Uhr \nRaum 101
URL:https://lessing-frankfurt.de/kalender/schulkonferenz/
END:VEVENT
END:VCALENDAR