BEGIN:VCALENDAR
VERSION:2.0
PRODID:-//Lessing-Gymnasium - ECPv6.15.17.1//NONSGML v1.0//EN
CALSCALE:GREGORIAN
METHOD:PUBLISH
X-ORIGINAL-URL:https://lessing-frankfurt.de
X-WR-CALDESC:Veranstaltungen für Lessing-Gymnasium
REFRESH-INTERVAL;VALUE=DURATION:PT1H
X-Robots-Tag:noindex
X-PUBLISHED-TTL:PT1H
BEGIN:VTIMEZONE
TZID:Europe/Berlin
BEGIN:DAYLIGHT
TZOFFSETFROM:+0100
TZOFFSETTO:+0200
TZNAME:CEST
DTSTART:20180325T010000
END:DAYLIGHT
BEGIN:STANDARD
TZOFFSETFROM:+0200
TZOFFSETTO:+0100
TZNAME:CET
DTSTART:20181028T010000
END:STANDARD
BEGIN:DAYLIGHT
TZOFFSETFROM:+0100
TZOFFSETTO:+0200
TZNAME:CEST
DTSTART:20190331T010000
END:DAYLIGHT
BEGIN:STANDARD
TZOFFSETFROM:+0200
TZOFFSETTO:+0100
TZNAME:CET
DTSTART:20191027T010000
END:STANDARD
BEGIN:DAYLIGHT
TZOFFSETFROM:+0100
TZOFFSETTO:+0200
TZNAME:CEST
DTSTART:20200329T010000
END:DAYLIGHT
BEGIN:STANDARD
TZOFFSETFROM:+0200
TZOFFSETTO:+0100
TZNAME:CET
DTSTART:20201025T010000
END:STANDARD
END:VTIMEZONE
BEGIN:VEVENT
DTSTART;TZID=Europe/Berlin:20191112T180000
DTEND;TZID=Europe/Berlin:20191112T210000
DTSTAMP:20260425T124558
CREATED:20190905T144020Z
LAST-MODIFIED:20190905T144020Z
UID:7066-1573581600-1573592400@lessing-frankfurt.de
SUMMARY:SEB-Sitzung
DESCRIPTION:18:00 Uhr; Bibliothek
URL:https://lessing-frankfurt.de/kalender/seb-sitzung/
END:VEVENT
BEGIN:VEVENT
DTSTART;TZID=Europe/Berlin:20191112T180000
DTEND;TZID=Europe/Berlin:20191112T210000
DTSTAMP:20260425T124558
CREATED:20191022T055212Z
LAST-MODIFIED:20191022T055212Z
UID:7497-1573581600-1573592400@lessing-frankfurt.de
SUMMARY:25. Rotarische Berufsinformation: „Schüler fragen – Profis antworten!“
DESCRIPTION:„Schü­ler fra­gen – Pro­fis antworten!“ \nam 12. Novem­ber 2019 um 18:00 Uhr \nin der Indus­trie- und Han­dels­kam­mer Frank­furt am Main\, \nBör­sen­platz 4\, 60313 Frank­furt am Main
URL:https://lessing-frankfurt.de/kalender/25-rotarische-berufsinformation-schueler-fragen-profis-antworten/
END:VEVENT
END:VCALENDAR