BEGIN:VCALENDAR
VERSION:2.0
PRODID:-//Lessing-Gymnasium - ECPv6.15.17.1//NONSGML v1.0//EN
CALSCALE:GREGORIAN
METHOD:PUBLISH
X-WR-CALNAME:Lessing-Gymnasium
X-ORIGINAL-URL:https://lessing-frankfurt.de
X-WR-CALDESC:Veranstaltungen für Lessing-Gymnasium
REFRESH-INTERVAL;VALUE=DURATION:PT1H
X-Robots-Tag:noindex
X-PUBLISHED-TTL:PT1H
BEGIN:VTIMEZONE
TZID:Europe/Berlin
BEGIN:DAYLIGHT
TZOFFSETFROM:+0100
TZOFFSETTO:+0200
TZNAME:CEST
DTSTART:20180325T010000
END:DAYLIGHT
BEGIN:STANDARD
TZOFFSETFROM:+0200
TZOFFSETTO:+0100
TZNAME:CET
DTSTART:20181028T010000
END:STANDARD
BEGIN:DAYLIGHT
TZOFFSETFROM:+0100
TZOFFSETTO:+0200
TZNAME:CEST
DTSTART:20190331T010000
END:DAYLIGHT
BEGIN:STANDARD
TZOFFSETFROM:+0200
TZOFFSETTO:+0100
TZNAME:CET
DTSTART:20191027T010000
END:STANDARD
BEGIN:DAYLIGHT
TZOFFSETFROM:+0100
TZOFFSETTO:+0200
TZNAME:CEST
DTSTART:20200329T010000
END:DAYLIGHT
BEGIN:STANDARD
TZOFFSETFROM:+0200
TZOFFSETTO:+0100
TZNAME:CET
DTSTART:20201025T010000
END:STANDARD
END:VTIMEZONE
BEGIN:VEVENT
DTSTART;TZID=Europe/Berlin:20191031T133000
DTEND;TZID=Europe/Berlin:20191031T170000
DTSTAMP:20260425T141446
CREATED:20181022T204525Z
LAST-MODIFIED:20190731T130303Z
UID:2966-1572528600-1572541200@lessing-frankfurt.de
SUMMARY:Gesamt­konferenz
DESCRIPTION:Bitte den schul­in­ter­nen Aus­hang beachten.
URL:https://lessing-frankfurt.de/kalender/gesamtkonferenz-3/
END:VEVENT
BEGIN:VEVENT
DTSTART;TZID=Europe/Berlin:20191031T140000
DTEND;TZID=Europe/Berlin:20191031T170000
DTSTAMP:20260425T141447
CREATED:20180807T202155Z
LAST-MODIFIED:20190731T121456Z
UID:2158-1572530400-1572541200@lessing-frankfurt.de
SUMMARY:Pädagogische Konferenzen Kl. 5
DESCRIPTION:Bitte den schul­in­ter­nen Aus­hang beachten.
URL:https://lessing-frankfurt.de/kalender/paedagogische-konferenzen-kl-5-8/
END:VEVENT
END:VCALENDAR