BEGIN:VCALENDAR
VERSION:2.0
PRODID:-//Lessing-Gymnasium - ECPv6.15.17.1//NONSGML v1.0//EN
CALSCALE:GREGORIAN
METHOD:PUBLISH
X-ORIGINAL-URL:https://lessing-frankfurt.de
X-WR-CALDESC:Veranstaltungen für Lessing-Gymnasium
REFRESH-INTERVAL;VALUE=DURATION:PT1H
X-Robots-Tag:noindex
X-PUBLISHED-TTL:PT1H
BEGIN:VTIMEZONE
TZID:Europe/Berlin
BEGIN:DAYLIGHT
TZOFFSETFROM:+0100
TZOFFSETTO:+0200
TZNAME:CEST
DTSTART:20180325T010000
END:DAYLIGHT
BEGIN:STANDARD
TZOFFSETFROM:+0200
TZOFFSETTO:+0100
TZNAME:CET
DTSTART:20181028T010000
END:STANDARD
BEGIN:DAYLIGHT
TZOFFSETFROM:+0100
TZOFFSETTO:+0200
TZNAME:CEST
DTSTART:20190331T010000
END:DAYLIGHT
BEGIN:STANDARD
TZOFFSETFROM:+0200
TZOFFSETTO:+0100
TZNAME:CET
DTSTART:20191027T010000
END:STANDARD
BEGIN:DAYLIGHT
TZOFFSETFROM:+0100
TZOFFSETTO:+0200
TZNAME:CEST
DTSTART:20200329T010000
END:DAYLIGHT
BEGIN:STANDARD
TZOFFSETFROM:+0200
TZOFFSETTO:+0100
TZNAME:CET
DTSTART:20201025T010000
END:STANDARD
END:VTIMEZONE
BEGIN:VEVENT
DTSTART;VALUE=DATE:20191027
DTEND;VALUE=DATE:20191029
DTSTAMP:20260425T174359
CREATED:20190913T055300Z
LAST-MODIFIED:20190913T060022Z
UID:7347-1572141600-1572227999@lessing-frankfurt.de
SUMMARY:Mini-Marathon und Staffel-Marathon von Mainova
DESCRIPTION:Die Läufe star­ten in der Lud­wig Ebert Anlage mit Ziel­ein­lauf auf dem roten Tep­pich in der Fest­halle. Jede® Teilnehmer(in) erhält einen Star­ter­beu­tel mit vie­len Prä­sen­ten und eine Medaille im Ziel. Die fünf erst­plat­zier­ten Schul­mann­schaf­ten erhal­ten attrak­tive Preis­gel­der für ihre Schu­len! Wei­tere Infor­ma­tio­nen via https://www.frankfurt-marathon.com/dein-lauf/mini-marathon/ und www.frankfurt-marathon.com/dein-lauf/staffelmarathon/\n\nFol­gende Stre­cken sind mög­lich\, wobei das gemein­same Erleb­nis und nicht die Zeit im Vor­der­grund steht.\n\n10:55 Uhr — 4\,2km Mini­ma­ra­thon für Schüler/Innen im Alter von 8 bis 16 Jah­ren (Start­ge­bühr 8 Euro bis Ende September)\n10:35 Uhr Staf­fel­ma­ra­thon für 4 Per­so­nen (Fami­lie und/oder Freunde). Die Distanz von 42\,195 km auf der Stre­cke des Mai­nova Frank­furt Mara­thon wird auf 1. Läu­fer: 12\,9 km\, 2. Läu­fer: 6\,1 km\, 3. Läu­fer: 9\,5 km\, 4. Läu­fer: 13\,5 km auf­ge­teilt. (Start­ge­bühr Team 176 Euro bis Ende September)
URL:https://lessing-frankfurt.de/kalender/mini-marathon-und-staffel-marathon-von-mainova/
END:VEVENT
END:VCALENDAR