BEGIN:VCALENDAR
VERSION:2.0
PRODID:-//Lessing-Gymnasium - ECPv6.15.17.1//NONSGML v1.0//EN
CALSCALE:GREGORIAN
METHOD:PUBLISH
X-ORIGINAL-URL:https://lessing-frankfurt.de
X-WR-CALDESC:Veranstaltungen für Lessing-Gymnasium
REFRESH-INTERVAL;VALUE=DURATION:PT1H
X-Robots-Tag:noindex
X-PUBLISHED-TTL:PT1H
BEGIN:VTIMEZONE
TZID:Europe/Berlin
BEGIN:DAYLIGHT
TZOFFSETFROM:+0100
TZOFFSETTO:+0200
TZNAME:CEST
DTSTART:20180325T010000
END:DAYLIGHT
BEGIN:STANDARD
TZOFFSETFROM:+0200
TZOFFSETTO:+0100
TZNAME:CET
DTSTART:20181028T010000
END:STANDARD
BEGIN:DAYLIGHT
TZOFFSETFROM:+0100
TZOFFSETTO:+0200
TZNAME:CEST
DTSTART:20190331T010000
END:DAYLIGHT
BEGIN:STANDARD
TZOFFSETFROM:+0200
TZOFFSETTO:+0100
TZNAME:CET
DTSTART:20191027T010000
END:STANDARD
BEGIN:DAYLIGHT
TZOFFSETFROM:+0100
TZOFFSETTO:+0200
TZNAME:CEST
DTSTART:20200329T010000
END:DAYLIGHT
BEGIN:STANDARD
TZOFFSETFROM:+0200
TZOFFSETTO:+0100
TZNAME:CET
DTSTART:20201025T010000
END:STANDARD
END:VTIMEZONE
BEGIN:VEVENT
DTSTART;TZID=Europe/Berlin:20190820T190000
DTEND;TZID=Europe/Berlin:20190820T210000
DTSTAMP:20260425T203820
CREATED:20180801T161123Z
LAST-MODIFIED:20190731T122928Z
UID:2009-1566327600-1566334800@lessing-frankfurt.de
SUMMARY:5. Kl.: Elternabende
DESCRIPTION:Die Eltern­abende der 5. Klas­sen fin­den ab 19:00 Uhr statt.
URL:https://lessing-frankfurt.de/kalender/5-kl-elternabende/
END:VEVENT
BEGIN:VEVENT
DTSTART;TZID=Europe/Berlin:20190820T193000
DTEND;TZID=Europe/Berlin:20190820T203000
DTSTAMP:20260425T203820
CREATED:20180807T200805Z
LAST-MODIFIED:20190731T122842Z
UID:2139-1566329400-1566333000@lessing-frankfurt.de
SUMMARY:Q1: Elternabend
DESCRIPTION:Eltern­abend für die Jahr­gangs­stufe Q1 ab 19:30 Uhr
URL:https://lessing-frankfurt.de/kalender/elternabend-fuer-die-jahrgangsstufe-q1/
END:VEVENT
END:VCALENDAR