BEGIN:VCALENDAR
VERSION:2.0
PRODID:-//Lessing-Gymnasium - ECPv6.15.17.1//NONSGML v1.0//EN
CALSCALE:GREGORIAN
METHOD:PUBLISH
X-ORIGINAL-URL:https://lessing-frankfurt.de
X-WR-CALDESC:Veranstaltungen für Lessing-Gymnasium
REFRESH-INTERVAL;VALUE=DURATION:PT1H
X-Robots-Tag:noindex
X-PUBLISHED-TTL:PT1H
BEGIN:VTIMEZONE
TZID:Europe/Berlin
BEGIN:DAYLIGHT
TZOFFSETFROM:+0100
TZOFFSETTO:+0200
TZNAME:CEST
DTSTART:20180325T010000
END:DAYLIGHT
BEGIN:STANDARD
TZOFFSETFROM:+0200
TZOFFSETTO:+0100
TZNAME:CET
DTSTART:20181028T010000
END:STANDARD
BEGIN:DAYLIGHT
TZOFFSETFROM:+0100
TZOFFSETTO:+0200
TZNAME:CEST
DTSTART:20190331T010000
END:DAYLIGHT
BEGIN:STANDARD
TZOFFSETFROM:+0200
TZOFFSETTO:+0100
TZNAME:CET
DTSTART:20191027T010000
END:STANDARD
BEGIN:DAYLIGHT
TZOFFSETFROM:+0100
TZOFFSETTO:+0200
TZNAME:CEST
DTSTART:20200329T010000
END:DAYLIGHT
BEGIN:STANDARD
TZOFFSETFROM:+0200
TZOFFSETTO:+0100
TZNAME:CET
DTSTART:20201025T010000
END:STANDARD
END:VTIMEZONE
BEGIN:VEVENT
DTSTART;TZID=Europe/Berlin:20190813T083000
DTEND;TZID=Europe/Berlin:20190813T094500
DTSTAMP:20260425T203215
CREATED:20180801T160404Z
LAST-MODIFIED:20190731T124053Z
UID:2002-1565685000-1565689500@lessing-frankfurt.de
SUMMARY:Schulgottes­dienst
DESCRIPTION:Schul­got­tes­dienst 8:30 Uhr; Unter­richts­be­ginn ab der 3.Stunde
URL:https://lessing-frankfurt.de/kalender/schulgottesdienst/
LOCATION:Sankt-Katharinen-Kirche\, An der Hauptwache 1\, Frankfurt am Main\, 60313\, Deutschland
END:VEVENT
BEGIN:VEVENT
DTSTART;TZID=Europe/Berlin:20190813T083000
DTEND;TZID=Europe/Berlin:20190813T113000
DTSTAMP:20260425T203215
CREATED:20180801T161356Z
LAST-MODIFIED:20190731T123513Z
UID:2011-1565685000-1565695800@lessing-frankfurt.de
SUMMARY:Feierliche Einschulung der neuen Sextanerinnen und Sextaner
DESCRIPTION:Der Tag beginnt mit einem öku­me­ni­schen Got­tes­dienst um 8:30 Uhr in der Sankt-Katha­ri­nen-Kir­che\, zu dem wir Sie und euch recht herz­lich einladen.\nAb 10:00 Uhr fin­det in der Aula des Les­sing-Gym­na­si­ums die Ein­schu­lungs­feier statt.
URL:https://lessing-frankfurt.de/kalender/feierliche-einschulung-der-neuen-sextanerinnen-und-sextaner/
END:VEVENT
END:VCALENDAR